BEGIN:VCALENDAR
VERSION:2.0
PRODID:-//hacksw/handcal//NONSGML v1.0//EN
BEGIN:VEVENT
DTSTAMP:20250326T180000Z
DTSTART:20250326T180000Z
DTEND:20250326T180000Z
LOCATION:Kreistagssitzungssaal, Mommsenstraße 13 , Bad Oldesloe, 23843, Deutschland
SUMMARY:CDU Stormarn - mitgliederoffener Kreisverbandsausschuss (KVA)
END:VEVENT
END:VCALENDAR
