BEGIN:VCALENDAR
VERSION:2.0
PRODID:-//hacksw/handcal//NONSGML v1.0//EN
BEGIN:VEVENT
DTSTAMP:20250310T160000Z
DTSTART:20250310T160000Z
DTEND:20250310T160000Z
LOCATION:Pferdeklinik Bargteheide, Alte Landstraße 104, Bargteheide, 22941, Deutschland
SUMMARY:MIT Stormarn - Betriebsbesichtigung der Pferdeklinik Bargteheide
END:VEVENT
END:VCALENDAR
