BEGIN:VCALENDAR
VERSION:2.0
PRODID:-//hacksw/handcal//NONSGML v1.0//EN
BEGIN:VEVENT
DTSTAMP:20250829T150000Z
DTSTART:20250829T150000Z
DTEND:20250829T170000Z
LOCATION:CDU-Büro Ahrensburg, Rondeel 4, Ahrensburg, 22926, Deutschland
SUMMARY:Bürgersprechstunde mit Henri Schmidt MdB
END:VEVENT
END:VCALENDAR
