BEGIN:VCALENDAR
VERSION:2.0
PRODID:-//hacksw/handcal//NONSGML v1.0//EN
BEGIN:VEVENT
DTSTAMP:20250927T090000Z
DTSTART:20250927T090000Z
DTEND:20250927T100000Z
LOCATION:CDU-Büro Ahrensburg, Rondeel 4 , Ahrensburg, 22926, Deutschland
SUMMARY:Bürgersprechstunde am 27.09.2025
END:VEVENT
END:VCALENDAR
