BEGIN:VCALENDAR
VERSION:2.0
PRODID:-//hacksw/handcal//NONSGML v1.0//EN
BEGIN:VEVENT
DTSTAMP:20261218T180000Z
DTSTART:20261218T180000Z
DTEND:20261218T180000Z
LOCATION:Lokation wird rechtzeitig bekannt gegeben., Deutschland
SUMMARY:CDU Steinburg - Weihnachtsfeier für Mitglieder
END:VEVENT
END:VCALENDAR
