BEGIN:VCALENDAR
VERSION:2.0
PRODID:-//hacksw/handcal//NONSGML v1.0//EN
BEGIN:VEVENT
DTSTAMP:20251020T163000Z
DTSTART:20251020T163000Z
DTEND:20251020T163000Z
LOCATION:Christoph Kroschke GmbH --> Anmeldung erforderlich, Ladestraße 1, Ahrensburg, 22926, Deutschland
SUMMARY:CDU Stormarn - AK-Wirtschaft - KI in Deutschland mit Henri Schmidt (MdB)
END:VEVENT
END:VCALENDAR
