BEGIN:VCALENDAR
VERSION:2.0
PRODID:-//hacksw/handcal//NONSGML v1.0//EN
BEGIN:VEVENT
DTSTAMP:20260108T130000Z
DTSTART:20260108T130000Z
DTEND:20260108T130000Z
LOCATION:Dorfgemeinschaftshaus, Großenseer Straße 20, Lütjensee, 22952, Deutschland
SUMMARY:SU Lütjensee - Jahreshauptversammlung
END:VEVENT
END:VCALENDAR
