BEGIN:VCALENDAR
VERSION:2.0
PRODID:-//hacksw/handcal//NONSGML v1.0//EN
BEGIN:VEVENT
DTSTAMP:20261203T173000Z
DTSTART:20261203T173000Z
DTEND:20261203T173000Z
LOCATION:Lokation wird den Mitgliedern rechtzeitig bekannt gegeben!, Deutschland
SUMMARY:CDU Stormarn - Sitzung des Kreisvorstands
END:VEVENT
END:VCALENDAR
