BEGIN:VCALENDAR
VERSION:2.0
PRODID:-//hacksw/handcal//NONSGML v1.0//EN
BEGIN:VEVENT
DTSTAMP:20261113T230000Z
DTSTART:20261113T230000Z
DTEND:20261113T230000Z
LOCATION:Wird den Delegierten rechtzeitig bekannt gegeben!, Neumünster, Deutschland
SUMMARY:CDU Schleswig-Holstein - Landesvertreterversammlung
END:VEVENT
END:VCALENDAR
