BEGIN:VCALENDAR
VERSION:2.0
PRODID:-//hacksw/handcal//NONSGML v1.0//EN
BEGIN:VEVENT
DTSTAMP:20260508T220000Z
DTSTART:20260508T220000Z
DTEND:20260508T220000Z
LOCATION:Details werden den Mitgliedern per Einladung mitgeteilt!, Deutschland
SUMMARY:CDU Stormarn (Tangstedt) - Wahlkreismitgliederversammlung zur LTW'27
END:VEVENT
END:VCALENDAR
