BEGIN:VCALENDAR
VERSION:2.0
PRODID:-//hacksw/handcal//NONSGML v1.0//EN
BEGIN:VEVENT
DTSTAMP:20260428T170000Z
DTSTART:20260428T170000Z
DTEND:20260428T170000Z
LOCATION:Saal der Bahnhofsgaststätte Bern (Einlass ab 18:30 Uhr), Poststrasse 1 A , Steinburg OT Mollhagen, 22964, Deutschland
SUMMARY:CDU Stormarn (Nord) - Wahlkreismitgliederversammlung zur LTW'27
END:VEVENT
END:VCALENDAR
