BEGIN:VCALENDAR
VERSION:2.0
PRODID:-//hacksw/handcal//NONSGML v1.0//EN
BEGIN:VEVENT
DTSTAMP:20260228T090000Z
DTSTART:20260228T090000Z
DTEND:20260228T090000Z
LOCATION:Jagdschloss Malepartus, Tremsbüttler Weg 102, Bargteheide, 22941, Deutschland
SUMMARY:CDU Stormarn - Feierlichkeit zu 80-Jahre-CDU (nur für Mitglieder)
END:VEVENT
END:VCALENDAR
