BEGIN:VCALENDAR
VERSION:2.0
PRODID:-//hacksw/handcal//NONSGML v1.0//EN
BEGIN:VEVENT
DTSTAMP:20150927T153000Z
DTSTART:20150927T153000Z
DTEND:20150927T153000Z
LOCATION:Restaurant "Strehl", Reeshoop 50, Ahrensburg, 22926, Deutschland
SUMMARY:Wahlparty der CDU Ahrensburg
END:VEVENT
END:VCALENDAR
